 BEGIN:VCALENDAR
VERSION:2.0
PRODID:-//Yankee Homecoming - ECPv6.15.20//NONSGML v1.0//EN
CALSCALE:GREGORIAN
METHOD:PUBLISH
X-ORIGINAL-URL:https://yankeehomecoming.com
X-WR-CALDESC:Events for Yankee Homecoming
REFRESH-INTERVAL;VALUE=DURATION:PT1H
X-Robots-Tag:noindex
X-PUBLISHED-TTL:PT1H
BEGIN:VTIMEZONE
TZID:America/New_York
BEGIN:DAYLIGHT
TZOFFSETFROM:-0500
TZOFFSETTO:-0400
TZNAME:EDT
DTSTART:20240310T070000
END:DAYLIGHT
BEGIN:STANDARD
TZOFFSETFROM:-0400
TZOFFSETTO:-0500
TZNAME:EST
DTSTART:20241103T060000
END:STANDARD
BEGIN:DAYLIGHT
TZOFFSETFROM:-0500
TZOFFSETTO:-0400
TZNAME:EDT
DTSTART:20250309T070000
END:DAYLIGHT
BEGIN:STANDARD
TZOFFSETFROM:-0400
TZOFFSETTO:-0500
TZNAME:EST
DTSTART:20251102T060000
END:STANDARD
BEGIN:DAYLIGHT
TZOFFSETFROM:-0500
TZOFFSETTO:-0400
TZNAME:EDT
DTSTART:20260308T070000
END:DAYLIGHT
BEGIN:STANDARD
TZOFFSETFROM:-0400
TZOFFSETTO:-0500
TZNAME:EST
DTSTART:20261101T060000
END:STANDARD
END:VTIMEZONE
BEGIN:VEVENT
DTSTART;TZID=America/New_York:20250725T180000
DTEND;TZID=America/New_York:20250725T213000
DTSTAMP:20260425T074636
CREATED:20250709T232028Z
LAST-MODIFIED:20250711T000006Z
UID:28269-1753466400-1753479000@yankeehomecoming.com
SUMMARY:Salvation Army Sailebbration
DESCRIPTION:
URL:https://yankeehomecoming.com/events/salvation-army-sailebbration/
LOCATION:Waterfront Park – Boardwalk\, 54 Merrimac Street\, Newburyport\, MA\, 01950\, United States
CATEGORIES:Other Organization Events
ATTACH;FMTTYPE=image/jpeg:https://yankeehomecoming.com/wp-content/uploads/Screenshot-2025-07-09-191529.jpg
END:VEVENT
BEGIN:VEVENT
DTSTART;TZID=America/New_York:20250728T160000
DTEND;TZID=America/New_York:20250728T190000
DTSTAMP:20260425T074636
CREATED:20250407T223431Z
LAST-MODIFIED:20250409T012139Z
UID:28000-1753718400-1753729200@yankeehomecoming.com
SUMMARY:Elks Pasta Dinner
DESCRIPTION:
URL:https://yankeehomecoming.com/events/elks-pasta-dinner/
LOCATION:Elks Lodge\, 25 Low Street\, Newburyport\, MA\, 01950\, United States
CATEGORIES:Other Organization Events
ATTACH;FMTTYPE=image/png:https://yankeehomecoming.com/wp-content/uploads/PNL.png
END:VEVENT
BEGIN:VEVENT
DTSTART;TZID=America/New_York:20250730T100000
DTEND;TZID=America/New_York:20250730T140000
DTSTAMP:20260425T074636
CREATED:20240720T000006Z
LAST-MODIFIED:20250701T235244Z
UID:27396-1753869600-1753884000@yankeehomecoming.com
SUMMARY:EXCHANGE CLUB KIDS DAY IN THE PARK
DESCRIPTION:The Exchange Club of Greater Newburyport and Newburyport Recreation and Youth Services are excited to host this year’s Kids Day in the Park at Upper Atkinson Common on Wednesday July 30th from 10 AM– 2 PM. \nThis free event starts with a parade for decorated bikes and doll carriages\, with prizes for the best ones! After that\, kids can get their faces painted\, experience Theater in the Open\, relax with a story organized by the Newburyport Library\, participate in a sing-along\, and watch a police department K9 demonstration. There will also be free food and drinks available starting at noon. Please stop by and join the fun!
URL:https://yankeehomecoming.com/events/27396/
LOCATION:Atkinson Common\, 388 High Street\, Newburyport\, MA\, 01950\, United States
CATEGORIES:Other Organization Events
ATTACH;FMTTYPE=image/png:https://yankeehomecoming.com/wp-content/uploads/Screenshot-2024-07-19-195843.png
END:VEVENT
BEGIN:VEVENT
DTSTART;TZID=America/New_York:20250731T173000
DTEND;TZID=America/New_York:20250731T193000
DTSTAMP:20260425T074636
CREATED:20250730T183337Z
LAST-MODIFIED:20250730T184328Z
UID:28438-1753983000-1753990200@yankeehomecoming.com
SUMMARY:Rotary Club Beer and Bites
DESCRIPTION:
URL:https://yankeehomecoming.com/events/rotary-club-beer-and-bites/
LOCATION:The Tannery Marketplace\, 75 Water Street\, Newburyport\, 01950\, United States
CATEGORIES:Other Organization Events
ATTACH;FMTTYPE=image/png:https://yankeehomecoming.com/wp-content/uploads/rotary.png
END:VEVENT
END:VCALENDAR