 BEGIN:VCALENDAR
VERSION:2.0
PRODID:-//Yankee Homecoming - ECPv6.15.20//NONSGML v1.0//EN
CALSCALE:GREGORIAN
METHOD:PUBLISH
X-WR-CALNAME:Yankee Homecoming
X-ORIGINAL-URL:https://yankeehomecoming.com
X-WR-CALDESC:Events for Yankee Homecoming
REFRESH-INTERVAL;VALUE=DURATION:PT1H
X-Robots-Tag:noindex
X-PUBLISHED-TTL:PT1H
BEGIN:VTIMEZONE
TZID:America/New_York
BEGIN:DAYLIGHT
TZOFFSETFROM:-0500
TZOFFSETTO:-0400
TZNAME:EDT
DTSTART:20230312T070000
END:DAYLIGHT
BEGIN:STANDARD
TZOFFSETFROM:-0400
TZOFFSETTO:-0500
TZNAME:EST
DTSTART:20231105T060000
END:STANDARD
BEGIN:DAYLIGHT
TZOFFSETFROM:-0500
TZOFFSETTO:-0400
TZNAME:EDT
DTSTART:20240310T070000
END:DAYLIGHT
BEGIN:STANDARD
TZOFFSETFROM:-0400
TZOFFSETTO:-0500
TZNAME:EST
DTSTART:20241103T060000
END:STANDARD
BEGIN:DAYLIGHT
TZOFFSETFROM:-0500
TZOFFSETTO:-0400
TZNAME:EDT
DTSTART:20250309T070000
END:DAYLIGHT
BEGIN:STANDARD
TZOFFSETFROM:-0400
TZOFFSETTO:-0500
TZNAME:EST
DTSTART:20251102T060000
END:STANDARD
BEGIN:DAYLIGHT
TZOFFSETFROM:-0500
TZOFFSETTO:-0400
TZNAME:EDT
DTSTART:20260308T070000
END:DAYLIGHT
BEGIN:STANDARD
TZOFFSETFROM:-0400
TZOFFSETTO:-0500
TZNAME:EST
DTSTART:20261101T060000
END:STANDARD
BEGIN:DAYLIGHT
TZOFFSETFROM:-0500
TZOFFSETTO:-0400
TZNAME:EDT
DTSTART:20270314T070000
END:DAYLIGHT
BEGIN:STANDARD
TZOFFSETFROM:-0400
TZOFFSETTO:-0500
TZNAME:EST
DTSTART:20271107T060000
END:STANDARD
END:VTIMEZONE
BEGIN:VEVENT
DTSTART;VALUE=DATE:20260725
DTEND;VALUE=DATE:20260803
DTSTAMP:20260424T214707
CREATED:20240607T120207Z
LAST-MODIFIED:20251116T215406Z
UID:27141-1784937600-1785715199@yankeehomecoming.com
SUMMARY:HERITAGE TOURS
DESCRIPTION:Check back soon for information on our 2026 festival \nHeritage Tours and Events 2025 \nSaturday\, July 26 and August 2. 10 am – 1 pm\, rain or shine. Custom House Maritime Museum. 25 Water Street. Revolutionary Summer Saturday Musters. Join us Saturday mornings for FREE outdoor and indoor activities for kids of all ages! Free admission to the museum and the interactive Discovery Center during the event. Visit our website www.thechmm.org or call us at 978-462-8681 \nSaturday\, July 26 – Saturday\, August 2\, 10:00 – 5:00 PM. *Merrimack Valley Ship Model Club Exhibition. Unitarian Universalist Church\, Lower Level\, 28 Pleasant Street. The Merrimack Valley Ship Model Club will exhibit a wide range and variety of ship models displaying tiny miniatures\, and modest rowing craft in contrast with ocean-going vessels. MVSMC members will be at the exhibit demonstrating modeling techniques and sharing background stories about the models on display. \nSaturday\, July 26 – Sunday\, August 9. *If This House Could Talk neighborhood stroll. City residents will be displaying posters with stories about their homes. Stroll Newburyport neighborhoods and look for house stories prominently displayed. Online map and details HERE. https://walknewburyport.wordpress.com Museum of Old Newbury: *Guided Tours\, Thursdays through Sundays 11 am – 5 pm. (last tour at 4 pm); 98 High St. Tickets online at www.newburyhistory.org.  Come take a 50-minute tour of this 1808 Federal period house which tells the story of the Cushing family and the greater Newburyport area.  Since 1877\, the Museum of Old Newbury has been collecting\, preserving\, and presenting the history of Newburyport\, Newbury\, West Newbury\, Byfield\, and Plum Island. With objects and documents\, we tell the stories of local people from the past four centuries.  info@newburyhistory.org; phone: 978-462-2681. \nCustom House Maritime Museum: *Guided Tours. Tuesday – Saturday: 10 am -5 pm; Sunday Noon to 5 pm. 25 Water Street. Free admission for Newburyport residents\, children\, students and active military. A new Discovery Center is perfect for K-12 and adults too! An important Revolutionary War exhibition is a must-see with incredible art and artifacts from 250 years ago. For more information\, visit our website www.thechmm.org or call us at 978-462-8681. \nSaturday\, July 26\, 1:00 – 2:00 pm. Road to the American Revolution. Parker River Wildlife Refuge Headquarters. Plum Island Turnpike. Historian and author Ghlee E.Woodworth will take you on a visual tour of Newburyport soldiers\, reformers and revolutionaries and talk about their role in the American Revolution. Discover how the Merrimack River entrance was fortified to protect the harbor for ships and trade. \nSaturday\, July 26\, 1:00 – 3:00 pm. *Newburyport Powder House Park and Learning Center\, 57 Low Street (across from Nock/Molin Schools). Come and visit the restored Powder House built in 1822 on Godfrey’s Hill. View the exterior and interior restoration and original cobblestone wagon path. The Powder House is an American Association of State and Local History merit award winner. \nSunday\, July 27\, and Saturday\, August 2\, 10 am to 6 pm. *Local Citizens and Their Contributions. Oak Hill Cemetery. Brown and State Streets. Over 20 gravesites will be labeled – ministers\, benefactors\, sea captains including Francis B. Todd who was buried in a rum barrel. View the grave of Anna Jaques\, the hospital benefactor. Enjoy a stroll through beautiful Oak Hill Cemetery while learning about our local citizens of the past. \nSunday\, July 27\, and Saturday\, August 2; 10:00 am to Noon. *Superior Courthouse Open House\, Bartlet Mall. Visit the 1805 courthouse\, designed by Charles Bullfinch\, and learn about its history and beautiful interior and exterior architecture including the courtroom where President John Quincy Adams and Daniel Webster tried cases. Presented by Essex County Clerk of Courts Tom Driscoll and the Greater Newburyport Bar Association. \nSunday\, July 27\, Sunday 11- 12 Noon. Stop by Central Congregational Church on the corner of Pleasant and Titcomb Street. Hear The Killeeshil Irish Band play as you enjoy cookies and lemonade. Browse the history displays telling the story of the church\, started in 1768.  Accessible bathrooms. \nSunday\, July 27\, 2:00 to 4:00 pm. *Old South Revolutionary War Tour. 29 Federal Street. Meet at the Federal Street front doors. Hear how the Old South Church and its parishioners participated in the American Revolution and played a vital role in sending soldiers to the ill-fated journey to Quebec with Colonel Benedict Arnold. \nSunday\, July 27\, 1:45 – 3:15 pm\, and Monday\, July 28\, 6:00 – 7:30 pm. Tuesday\, July 29\, 11:00 – 12:30 pm\, *Clipper Heritage Trail’s Along the Water’s Edge Waterfront Harbor Tour. Boardwalk near Black Cow restaurant. Tickets go fast! Make reservations online at www.harbortours.com. Join historian Ghlee Woodworth aboard the Yankee Clipper and enjoy a 90-minute cruise along the beautiful Merrimack River. Step back in time and hear about shipyards\, Caldwell’s Rum\, and a castle as we cruise upriver to Amesbury. On the return leg\, the Yankee Clipper takes us along the shores of Joppa and learn how citizens fortified the harbor against the British in the 1770s. \nMonday\, July 28\, 9:00 to 10:30 am. *Feathered Friends and Long Forgotten Friends\, Oak Hill Cemetery\, main gates\, Brown and State Streets. Join Sue McGrath of Newburyport Birders and local historian Ghlee Woodworth for an exciting outing at Oak Hill Cemetery. Many different species are attracted to the diverse habitat of Oak Hill and while learning to identify birds\, see the graves of Newburyport benefactors\, sea captains\, early American photographers\, and abolitionists. \nMonday\, July 28\, 6:00 – 7:30 pm. Tuesday\, July 29\, 11:00 – 12:30 pm\, *Clipper Heritage Trail’s Along the Water’s Edge Waterfront Harbor Tour. Boardwalk near Black Cow restaurant. Tickets go fast! Make reservations online at www.harbortours.com. Join historian Ghlee Woodworth aboard the Yankee Clipper and enjoy a 90-minute cruise along the beautiful Merrimack River. Step back in time and hear about shipyards\, Caldwell’s Rum\, and a castle as we cruise upriver to Amesbury. On the return leg\, the Yankee Clipper takes us along the shores of Joppa and learn how citizens fortified the harbor against the British in the 1770s. \nTuesday\, July 29\, 11:00 – 12:30 pm\, *Clipper Heritage Trail’s Along the Water’s Edge Waterfront Harbor Tour. Boardwalk near Black Cow restaurant. Tickets go fast! Make reservations online at www.harbortours.com. Join historian Ghlee Woodworth aboard the Yankee Clipper and enjoy a 90-minute cruise along the beautiful Merrimack River. Step back in time and hear about shipyards\, Caldwell’s Rum\, and a castle as we cruise upriver to Amesbury. On the return leg\, the Yankee Clipper takes us along the shores of Joppa and learn how citizens fortified the harbor against the British in the 1770s. \nTuesday July 29\, 4:00 – 5:30pm. *Overlooked Stories\, Forgotten No More: A Downtown Walking Tour by the Newburyport Black History Initiative. Meet at Green Street\, Brown Square\, across from City Hall. The mission of the award- winning Newburyport Black History Initiative is to affirm Black heritage and belonging in the city of Newburyport by illuminating histories that have long been overlooked and ensuring that these stories are publicly accessible to a broad audience. This walking tour of the interpretive signs installed in the downtown core will be led by two of the three co-founders of the Initiative\, Geordie Vining\, Dr. Kabria Baumgartner and Cyd Raschke. We will hear some of the stories of Black Americans\, including domestic servants\, mariners\, barbers\, soldiers\, lawyers\, and activists\, who lived and worked in Newburyport from the pre-Revolutionary War era to the early 20th century. We will meet at Green Street\, Brown Square\, across from City Hall. \nWednesday\, July 30\, 10 am to 11:30 am. The Road to Revolution. Meet at the corner of Fruit\, Prospect and Fair Streets. A morning stroll through sites connected with Newburyport’s Revolutionary past. Join author and historian Ghlee Woodworth for a walk in the downtown area. \nWednesday\, July 30\, 5 to 6 pm. Old Hill Burying Ground\, Greenleaf Street behind Bartlet Mall. Join historian Ghlee Woodworth and take a stroll through the burying ground and visit the final resting places of citizens with a connection to Newburyport’s American Revolution past. \nThursday\, July 31\, 10 to 11 am. Oak Hill Cemetery. Brown and State Streets entrance by Brown Chapel. Take a walk through beautiful Oak Hill Cemetery and meet a soldier of the American Revolution\, photographers\, abolitionists and a lighthouse keeper. \nFriday\, August 1\, 10 am to 2 pm. First Religious Society\, Unitarian Universalist\, 26 Pleasant Street 10:00-2:00. Make your own Bonnet or Tri-corner Hat; – hosted by the Central Church and UU. Children and families come and help celebrate the 250th anniversary of the American Revolution. Get a photo of yourself as a colonial resident with a cardboard family of “Stand-Ins” and sign your name with a quill pen to a historical document.  All are welcome! \nFriday\, August 1 and Saturday\, August 2\, 11 am – 2 pm. *History Tours. First Religious Society\, Unitarian Universalist\, 26 Pleasant Street. Drop in for a tour 11 am – 2 pm and help celebrate the church’s 300 th anniversary and history. View the drone video of the beauty of church grounds and steeple\, experience the architectural beauty and social history of the church\, a cornerstone of Newburyport since 1725. See the 1750s clock hand struck by lightning and studied by Benjamin Franklin. Be sure to head downstairs to see the Merrimack Valley Ship Model Club display and stop by next door at Parish Hall’s book sale. \nSaturday\, August 2. 10 am – 1 pm\, rain or shine. Custom House Maritime Museum. 25 Water Street. Revolutionary Summer Saturday Musters. Join us Saturday mornings for FREE outdoor and indoor activities for kids of all ages! Free admission to the museum and the interactive Discovery Center during the event. Visit our website www.thechmm.org or call us at 978-462-8681 \nSaturday\, August 2\, 10 am to 6 pm. *Local Citizens and Their Contributions. Oak Hill Cemetery. Brown and State Streets. Over 20 gravesites will be labeled – ministers\, benefactors\, sea captains including Francis B. Todd who buried in a rum barrel and view the grave of Anna Jaques\, the hospital benefactor. Enjoy a stroll through beautiful Oak Hill Cemetery while learning about our local citizens of the past. \nSaturday\, August 2; 10:00 am to Noon. *Superior Courthouse Open House\, Bartlet Mall. Visit the 1805 courthouse\, designed by Charles Bullfinch\, and learn about its history and beautiful interior and exterior architecture including the courtroom where President John Quincy Adams and Daniel Webster tried cases. Presented by Essex County Clerk of Courts Tom Driscoll and the Greater Newburyport Bar Association. \nSaturday\, August 2\, 11 am – 2 pm. *History Tours. First Religious Society\, Unitarian Universalist\, 26 Pleasant Street. Drop in for a tour 11 am – 2 pm and help celebrate the church’s 300th anniversary and history. View the drone video of the beauty of church grounds and steeple\, experience the architectural beauty and social history of the church\, a cornerstone of Newburyport since 1725. See the 1750s clock hand struck by lightning and studied by Benjamin Franklin. Be sure to head downstairs to see the Merrimack Valley Ship Model Club display and stop by next door at Parish Hall’s book sale.
URL:https://yankeehomecoming.com/events/heritage-tours/
LOCATION:MA
CATEGORIES:YHC Events
ATTACH;FMTTYPE=image/jpeg:https://yankeehomecoming.com/wp-content/uploads/Oak-Hill-Cemetery.jpg
END:VEVENT
BEGIN:VEVENT
DTSTART;VALUE=DATE:20260725
DTEND;VALUE=DATE:20260803
DTSTAMP:20260424T214707
CREATED:20240607T111733Z
LAST-MODIFIED:20251116T215620Z
UID:27137-1784937600-1785715199@yankeehomecoming.com
SUMMARY:YANKEE HOMECOMING MARKET PLACE
DESCRIPTION:Shop to your heart’s content in our open air bazaar-like market place right in the heart of historic Newburyport’s center. Covering two square blocks\, this extravaganza of food and great finds is sure to tantalize all your senses. \nHungry? Along with the usual outdoor summer fare of burgers\, hot dogs\, fried dough and pizza\, we also feature great seafood\, Chinese\, Italian\, Indian\, Mexican and many other culinary delights designed to tickle your discerning pallet. \nWe’re even bringing in a full size authentic brick oven set up right in downtown. \nCome and enjoy two stages of continuous entertainment from 10am – 5pm each day\, Sunday to Sunday. \nHave your fortune told\, get a temporary tattoo or marvel at the artistry\, jewelry and diverse wares of our many vendors that make up this year’s Market Square outdoor market place. \nWhatever your fancy\, all awaits you from 10am – 8pm in and around Market Square this year.
URL:https://yankeehomecoming.com/events/yankee-homecoming-market-place/
LOCATION:Market Square\, Market Square Newburyport\, MA 01950\, USA\, Newburyport\, MA\, 01950\, United States
CATEGORIES:YHC Events
ATTACH;FMTTYPE=image/jpeg:https://yankeehomecoming.com/wp-content/uploads/Yankee-Homecoming-Old-Fashioned-Sunday-1a-27-1-scaled.jpg
END:VEVENT
BEGIN:VEVENT
DTSTART;VALUE=DATE:20260725
DTEND;VALUE=DATE:20260803
DTSTAMP:20260424T214707
CREATED:20240606T131000Z
LAST-MODIFIED:20260415T231016Z
UID:27110-1784937600-1785715199@yankeehomecoming.com
SUMMARY:SUPPORT LOCAL CONTEST
DESCRIPTION:Yankee Homecoming is proud to bring back our Support Local Contest.  During the week of Yankee Homecoming make a purchase ($20 or more) at any restaurant or retail store located in Newburyport and submit a copy of your receipt to be entered into our drawing. \nAt the end of the week we will pull 3 random winners who will win a $100 gift card of their choice to any Newburyport Business. \nRules:\nMake any purchase of $20 or more from July 25th – Aug 2nd\nSubmit a picture of your receipt to supportlocal@yankeehomecoming.com\nMake sure your email includes a picture of your receipt\, your full mailing address and the name of the Newburyport Business that you would like to receive a gift card to if you are selected as a winner \nWe will email the three winners by August 12th. It is that simple!\n\nThere is no limit to how many times you can enter so shop often and support our local businesses \nIf you would like to promote this event please email supportlocal@yankeehomecoming.com for a flyer to be posted at your business. \nIf you want more ways to support local year round while getting a discount in return consider purchasing a VIP Card. \nThe Best of NewburyportSM VIP Program is a local loyalty program that rewards VIP Card members with discounts EACH TIME they dine and shop at participating Greater Newburyport restaurants and retailers. The goal of the program is to remind everyone to “shop local” and support our small businesses owners. Purchase one VIP Card for $25 or two for $40 and $10 of your purchase gets donated to a local nonprofit partner of your choice. Newburyport.com partners with 23 local nonprofit organizations and donates 40% of VIP Card revenues to these organizations. \nTo purchase your card today and have your donation go to Yankee Homecoming Fireworks click HERE \n 
URL:https://yankeehomecoming.com/events/support-local-contest/
LOCATION:MA
CATEGORIES:YHC Events
ATTACH;FMTTYPE=image/jpeg:https://yankeehomecoming.com/wp-content/uploads/Copy-of-Paper-bag-day-Made-with-PosterMyWall-1.jpg
END:VEVENT
BEGIN:VEVENT
DTSTART;TZID=America/New_York:20250802T080000
DTEND;TZID=America/New_York:20250802T110000
DTSTAMP:20260424T214707
CREATED:20250715T223311Z
LAST-MODIFIED:20250720T192558Z
UID:28301-1754121600-1754132400@yankeehomecoming.com
SUMMARY:Pancake Breakfast
DESCRIPTION:
URL:https://yankeehomecoming.com/events/pancake-breakfast/
LOCATION:Masonic Center\, 31 Green Street\, Newburyport\, MA\, 01950\, United States
CATEGORIES:Other Organization Events
ATTACH;FMTTYPE=image/jpeg:https://yankeehomecoming.com/wp-content/uploads/Screenshot-2025-07-15-183129-1.jpg
END:VEVENT
BEGIN:VEVENT
DTSTART;TZID=America/New_York:20250801T100000
DTEND;TZID=America/New_York:20250801T150000
DTSTAMP:20260424T214707
CREATED:20250728T111852Z
LAST-MODIFIED:20250728T112250Z
UID:28420-1754042400-1754060400@yankeehomecoming.com
SUMMARY:Knights of Columbus Blood Drive
DESCRIPTION:
URL:https://yankeehomecoming.com/events/knights-of-columbus-blood-drive/
LOCATION:Elks Lodge\, 25 Low Street\, Newburyport\, MA\, 01950\, United States
CATEGORIES:Other Organization Events
ATTACH;FMTTYPE=image/jpeg:https://yankeehomecoming.com/wp-content/uploads/Screenshot-2025-07-28-071806.jpg
END:VEVENT
BEGIN:VEVENT
DTSTART;TZID=America/New_York:20250731T173000
DTEND;TZID=America/New_York:20250731T193000
DTSTAMP:20260424T214707
CREATED:20250730T183337Z
LAST-MODIFIED:20250730T184328Z
UID:28438-1753983000-1753990200@yankeehomecoming.com
SUMMARY:Rotary Club Beer and Bites
DESCRIPTION:
URL:https://yankeehomecoming.com/events/rotary-club-beer-and-bites/
LOCATION:The Tannery Marketplace\, 75 Water Street\, Newburyport\, 01950\, United States
CATEGORIES:Other Organization Events
ATTACH;FMTTYPE=image/png:https://yankeehomecoming.com/wp-content/uploads/rotary.png
END:VEVENT
BEGIN:VEVENT
DTSTART;TZID=America/New_York:20250730T100000
DTEND;TZID=America/New_York:20250730T140000
DTSTAMP:20260424T214707
CREATED:20240720T000006Z
LAST-MODIFIED:20250701T235244Z
UID:27396-1753869600-1753884000@yankeehomecoming.com
SUMMARY:EXCHANGE CLUB KIDS DAY IN THE PARK
DESCRIPTION:The Exchange Club of Greater Newburyport and Newburyport Recreation and Youth Services are excited to host this year’s Kids Day in the Park at Upper Atkinson Common on Wednesday July 30th from 10 AM– 2 PM. \nThis free event starts with a parade for decorated bikes and doll carriages\, with prizes for the best ones! After that\, kids can get their faces painted\, experience Theater in the Open\, relax with a story organized by the Newburyport Library\, participate in a sing-along\, and watch a police department K9 demonstration. There will also be free food and drinks available starting at noon. Please stop by and join the fun!
URL:https://yankeehomecoming.com/events/27396/
LOCATION:Atkinson Common\, 388 High Street\, Newburyport\, MA\, 01950\, United States
CATEGORIES:Other Organization Events
ATTACH;FMTTYPE=image/png:https://yankeehomecoming.com/wp-content/uploads/Screenshot-2024-07-19-195843.png
END:VEVENT
BEGIN:VEVENT
DTSTART;TZID=America/New_York:20250728T160000
DTEND;TZID=America/New_York:20250728T190000
DTSTAMP:20260424T214707
CREATED:20250407T223431Z
LAST-MODIFIED:20250409T012139Z
UID:28000-1753718400-1753729200@yankeehomecoming.com
SUMMARY:Elks Pasta Dinner
DESCRIPTION:
URL:https://yankeehomecoming.com/events/elks-pasta-dinner/
LOCATION:Elks Lodge\, 25 Low Street\, Newburyport\, MA\, 01950\, United States
CATEGORIES:Other Organization Events
ATTACH;FMTTYPE=image/png:https://yankeehomecoming.com/wp-content/uploads/PNL.png
END:VEVENT
BEGIN:VEVENT
DTSTART;TZID=America/New_York:20250725T180000
DTEND;TZID=America/New_York:20250725T213000
DTSTAMP:20260424T214707
CREATED:20250709T232028Z
LAST-MODIFIED:20250711T000006Z
UID:28269-1753466400-1753479000@yankeehomecoming.com
SUMMARY:Salvation Army Sailebbration
DESCRIPTION:
URL:https://yankeehomecoming.com/events/salvation-army-sailebbration/
LOCATION:Waterfront Park – Boardwalk\, 54 Merrimac Street\, Newburyport\, MA\, 01950\, United States
CATEGORIES:Other Organization Events
ATTACH;FMTTYPE=image/jpeg:https://yankeehomecoming.com/wp-content/uploads/Screenshot-2025-07-09-191529.jpg
END:VEVENT
BEGIN:VEVENT
DTSTART;TZID=America/New_York:20240801T180000
DTEND;TZID=America/New_York:20240801T190000
DTSTAMP:20260424T214707
CREATED:20240703T225353Z
LAST-MODIFIED:20240703T225353Z
UID:27269-1722535200-1722538800@yankeehomecoming.com
SUMMARY:LIONS CLUB BED RACE
DESCRIPTION:
URL:https://yankeehomecoming.com/events/lions-club-bed-race/
LOCATION:MA
CATEGORIES:Other Organization Events
ATTACH;FMTTYPE=image/png:https://yankeehomecoming.com/wp-content/uploads/Screenshot-2024-07-03-185019.png
END:VEVENT
BEGIN:VEVENT
DTSTART;TZID=America/New_York:20240801T173000
DTEND;TZID=America/New_York:20240801T193000
DTSTAMP:20260424T214707
CREATED:20240727T110221Z
LAST-MODIFIED:20240727T110426Z
UID:27462-1722533400-1722540600@yankeehomecoming.com
SUMMARY:THE ROTARY BEER AND BITES
DESCRIPTION:
URL:https://yankeehomecoming.com/events/the-rotary-beer-and-bites/
LOCATION:The Tannery Marketplace\, 75 Water Street\, Newburyport\, 01950\, United States
CATEGORIES:Other Organization Events
ATTACH;FMTTYPE=image/png:https://yankeehomecoming.com/wp-content/uploads/rotary.png
END:VEVENT
BEGIN:VEVENT
DTSTART;TZID=America/New_York:20240731T130000
DTEND;TZID=America/New_York:20240731T160000
DTSTAMP:20260424T214707
CREATED:20240719T234357Z
LAST-MODIFIED:20240719T234624Z
UID:27391-1722430800-1722441600@yankeehomecoming.com
SUMMARY:CONGREGATION AHAVAS ACHIM ICE CREAM SOCIAL
DESCRIPTION:  \n\n\n\n\n\n\n\n\n\n\n\n\n\n\n\n\n\n\n\n\n\n\n\n\n\nCongregation Ahavas Achim is pleased to announce the return of our Ice Cream Social on July 31\, 2024 from 1:00pm until 4:00pm in the social hall at 53 1/2 Washington St (corner of Washington and Olive Streets)\, Newburyport\, MA.\n\nThe cost will be $5 per person or a family fee of $20 which will include family children under 10 years old.\n\nBring all your relatives and friends and enjoy your favorite available flavor to which you can add your choice of many toppings.  We are looking forward to seeing you there!
URL:https://yankeehomecoming.com/events/congregation-ahavas-achim-ice-cream-social/
LOCATION:Ice Cream Social\, 53 1/2 Washington St\, Newburyport\, 01950\, United States
CATEGORIES:Other Organization Events
ATTACH;FMTTYPE=image/png:https://yankeehomecoming.com/wp-content/uploads/Screenshot-2024-07-19-193657.png
END:VEVENT
BEGIN:VEVENT
DTSTART;TZID=America/New_York:20240730T180000
DTEND;TZID=America/New_York:20240730T200000
DTSTAMP:20260424T214707
CREATED:20240703T225157Z
LAST-MODIFIED:20240703T225157Z
UID:27264-1722362400-1722369600@yankeehomecoming.com
SUMMARY:LIONS CLUB - ROAD RACE
DESCRIPTION:
URL:https://yankeehomecoming.com/events/lions-club-road-race/
LOCATION:MA
CATEGORIES:Other Organization Events
ATTACH;FMTTYPE=image/png:https://yankeehomecoming.com/wp-content/uploads/Screenshot-2024-07-03-185019.png
END:VEVENT
BEGIN:VEVENT
DTSTART;TZID=America/New_York:20240726T113000
DTEND;TZID=America/New_York:20240728T150000
DTSTAMP:20260424T214707
CREATED:20240719T233141Z
LAST-MODIFIED:20240719T233324Z
UID:27386-1721993400-1722178800@yankeehomecoming.com
SUMMARY:Annunciation Greek Orthodox Church Greek Food Festival
DESCRIPTION:
URL:https://yankeehomecoming.com/events/annunciation-greek-orthodox-church-greek-food-festival/
LOCATION:Annunciation Church\, Annunciation Church\, 7 Harris St\, Newburyport\, MA\, 01950\, United States
CATEGORIES:Other Organization Events
ATTACH;FMTTYPE=image/png:https://yankeehomecoming.com/wp-content/uploads/Screenshot-2024-07-19-192931.png
END:VEVENT
BEGIN:VEVENT
DTSTART;TZID=America/New_York:20240617T080000
DTEND;TZID=America/New_York:20240617T170000
DTSTAMP:20260424T214707
CREATED:20240617T131202Z
LAST-MODIFIED:20240617T132139Z
UID:27206-1718611200-1718643600@yankeehomecoming.com
SUMMARY:new event
DESCRIPTION:
URL:https://yankeehomecoming.com/events/dff/
LOCATION:MA
END:VEVENT
END:VCALENDAR